View In:
ArcGIS JavaScript
ArcGIS Online Map Viewer
ArcGIS Earth
Service Description: Scene2a_WEL
Name: Scene2a_WEL
Description:
Single Fused Map Cache: true
Tile Info:
- Height: 256
- Width: 256
- DPI: 96
-
Levels of Detail: 8
- Format: LERC
- Compression Quality: 0.0
- LERC Error: 0.05
- Origin: X: -1.197563E8
Y: 2.955015612992939E12
- Spatial Reference: 102656
(2234)
LatestVCSWkid(0)
Storage Info:
- Storage Format: esriMapCacheStorageModeCompactV2
- Packet Size: 128
Extent:
XMin: 967500.0088285198
YMin: 740000.0152655755
XMax: 1005000.0088285198
YMax: 777500.0152655755
Spatial Reference: 102656
(2234)
LatestVCSWkid(0)
Initial Extent:
XMin: 967500.0088285198
YMin: 740000.0152655755
XMax: 1005000.0088285198
YMax: 777500.0152655755
Spatial Reference: 102656
(2234)
LatestVCSWkid(0)
Full Extent:
XMin: 967500.0088285198
YMin: 740000.0152655755
XMax: 1005000.0088285198
YMax: 777500.0152655755
Spatial Reference: 102656
(2234)
LatestVCSWkid(0)
Pixel Size X: 0.25
Pixel Size Y: 0.25
Band Count: 1
Pixel Type: F64
RasterFunction Infos: {"rasterFunctionInfos": [{
"name": "None",
"description": "",
"help": ""
}]}
Mensuration Capabilities: Basic
Inspection Capabilities:
Has Histograms: true
Has Colormap: false
Has Multi Dimensions : false
Rendering Rule:
Min Scale: 48000
Max Scale: 3000
Min LOD: 0
Max LOD: 2
Copyright Text:
Service Data Type: esriImageServiceDataTypeGeneric
Min Values: 46.180152893066406
Max Values: 1024.1649169921875
Mean Values: 294.30158470888864
Standard Deviation Values: 147.25608652149344
Object ID Field:
Fields:
None
Default Mosaic Method: Center
Allowed Mosaic Methods:
SortField:
SortValue: null
Mosaic Operator: First
Default Compression Quality: 75
Default Resampling Method: Bilinear
Max Record Count: null
Max Image Height: 4100
Max Image Width: 15000
Max Download Image Count: null
Max Mosaic Image Count: null
Allow Raster Function: true
Allow Copy: true
Allow Analysis: true
Allow Compute TiePoints: false
Supports Statistics: false
Supports Advanced Queries: false
Use StandardizedQueries: true
Raster Type Infos:
Name: Raster Dataset
Description: Supports all ArcGIS Raster Datasets
Help:
Has Raster Attribute Table: false
Edit Fields Info: null
Ownership Based AccessControl For Rasters: null
Child Resources:
Info
Histograms
Statistics
Key Properties
Legend
Raster Function Infos
Supported Operations:
Export Image
Identify
Measure
Compute Histograms
Compute Statistics Histograms
Get Samples
Compute Class Statistics
Query Boundary
Compute Pixel Location
Compute Angles
Validate
Project