{
 "currentVersion": 11.5,
 "serviceDescription": "Scene2a_WEL",
 "serviceItemId": "0212dd61ddec45979032ad6ecdadc4dc",
 "name": "Scene2a_WEL",
 "description": "",
 "extent": {
  "xmin": 967500.0088285198,
  "ymin": 740000.0152655755,
  "xmax": 1005000.0088285198,
  "ymax": 777500.0152655755,
  "spatialReference": {
   "wkid": 102656,
   "latestWkid": 2234
  }
 },
 "initialExtent": {
  "xmin": 967500.0088285198,
  "ymin": 740000.0152655755,
  "xmax": 1005000.0088285198,
  "ymax": 777500.0152655755,
  "spatialReference": {
   "wkid": 102656,
   "latestWkid": 2234
  }
 },
 "fullExtent": {
  "xmin": 967500.0088285198,
  "ymin": 740000.0152655755,
  "xmax": 1005000.0088285198,
  "ymax": 777500.0152655755,
  "spatialReference": {
   "wkid": 102656,
   "latestWkid": 2234
  }
 },
 "sortableFields": "",
 "bandCount": 1,
 "pixelType": "F64",
 "minValues": [
  46.180152893066406
 ],
 "maxValues": [
  1024.1649169921875
 ],
 "meanValues": [
  294.30158470888864
 ],
 "stdvValues": [
  147.25608652149344
 ],
 "serviceProperties": "Center<\/MosaicMethod>First<\/MosaicOperator>true<\/SortAscending><\/LockImageID><\/TileOrderField>0<\/TileOrderBase>0.000000<\/AvgImageSpacingX>0.000000<\/AvgImageSpacingY>0.0<\/ViewPointX>0.0<\/ViewPointY>0.0<\/ViewPointDefShiftX>0.0<\/ViewPointDefShiftY>None<\/CompressionMethod>75<\/CompressionQuality>0.100000<\/CompressionTolerance>Bilinear<\/SamplingMethod><\/ImageServiceProperties><\/ImageServer>",
 "allowedFields": "",
 "hasMultidimensions": false,
 "pixelSizeX": 0.25,
 "pixelSizeY": 0.25,
 "meanPixelSize": 0.07620015240030481,
 "datasetFormat": "FGDBR",
 "uncompressedSize": 180000000000,
 "blockWidth": 128,
 "blockHeight": 128,
 "compressionType": "LZ77",
 "bandNames": [
  "Band_1"
 ],
 "allowCopy": true,
 "allowAnalysis": true,
 "itemAccess": false,
 "inspectionCapabilities": "",
 "minPixelSize": 2.6041666666666665,
 "maxPixelSize": 41.666666666666664,
 "copyrightText": "",
 "serviceDataType": "esriImageServiceDataTypeGeneric",
 "serviceSourceType": "esriImageServiceSourceTypeDataset",
 "objectIdField": "",
 "fields": [],
 "capabilities": "Image,Metadata,Mensuration",
 "defaultMosaicMethod": "Center",
 "allowedMosaicMethods": "",
 "sortField": "",
 "sortValue": null,
 "sortAscending": true,
 "mosaicOperator": "First",
 "defaultCompressionQuality": 75,
 "defaultResamplingMethod": "Bilinear",
 "maxImageHeight": 4100,
 "maxImageWidth": 15000,
 "singleFusedMapCache": true,
 "tileInfo": {
  "rows": 256,
  "cols": 256,
  "dpi": 96,
  "format": "LERC",
  "compressionQuality": 0,
  "lercError": 0.05,
  "origin": {
   "x": -119756300,
   "y": 2.955015612992939E12
  },
  "spatialReference": {
   "wkid": 102656,
   "latestWkid": 2234
  },
  "lods": [
   {
    "level": 0,
    "resolution": 41.666666666666664,
    "scale": 48000
   },
   {
    "level": 1,
    "resolution": 20.833333333333332,
    "scale": 24000
   },
   {
    "level": 2,
    "resolution": 10.416666666666666,
    "scale": 12000
   },
   {
    "level": 3,
    "resolution": 5.208333333333333,
    "scale": 6000
   },
   {
    "level": 4,
    "resolution": 2.6041666666666665,
    "scale": 3000
   },
   {
    "level": 5,
    "resolution": 1.3020833333333333,
    "scale": 1500
   },
   {
    "level": 6,
    "resolution": 0.6510416666666666,
    "scale": 750
   },
   {
    "level": 7,
    "resolution": 0.3255208333333333,
    "scale": 375
   }
  ]
 },
 "storageInfo": {
  "storageFormat": "esriMapCacheStorageModeCompactV2",
  "packetSize": 128
 },
 "cacheType": "Elevation",
 "allowRasterFunction": true,
 "rasterFunctionInfos": [
  {
   "name": "None",
   "description": "",
   "help": ""
  }
 ],
 "rasterTypeInfos": [
  {
   "name": "Raster Dataset",
   "description": "Supports all ArcGIS Raster Datasets",
   "help": ""
  }
 ],
 "mensurationCapabilities": "Basic",
 "hasHistograms": true,
 "hasColormap": false,
 "hasRasterAttributeTable": false,
 "minScale": 48000,
 "maxScale": 3000,
 "minLOD": 0,
 "maxLOD": 2,
 "exportTilesAllowed": false,
 "supportsStatistics": false,
 "supportsAdvancedQueries": false,
 "editFieldsInfo": null,
 "ownershipBasedAccessControlForRasters": null,
 "allowComputeTiePoints": false,
 "useStandardizedQueries": true,
 "advancedQueryCapabilities": {
  "useStandardizedQueries": true,
  "supportsStatistics": false,
  "supportsOrderBy": false,
  "supportsDistinct": false,
  "supportsPagination": false
 },
 "spatialReference": {
  "wkid": 102656,
  "latestWkid": 2234
 }
}
