View In:
ArcGIS JavaScript
ArcGIS Online Map Viewer
ArcGIS Earth
ArcGIS Pro
Service Description:
Map Name: Scene2
Legend
All Layers and Tables
Layers:
Description:
Service Item Id: 2120ac21baba42a99fe6e46254c0179d
Copyright Text:
Spatial Reference:
102656
(2234)
LatestVCSWkid(0)
Single Fused Map Cache: true
Tile Info:
- Height: 256.0
- Width: 256.0
- DPI: 96.0
-
Levels of Detail: 24
-
Level ID: 0
[ Start Tile, End Tile ]
- Resolution: 943405.2883052821
- Scale: 1.0868050657378166E9
-
Level ID: 1
[ Start Tile, End Tile ]
- Resolution: 471702.64415264106
- Scale: 5.434025328689083E8
-
Level ID: 2
[ Start Tile, End Tile ]
- Resolution: 235851.32207632053
- Scale: 2.7170126643445414E8
-
Level ID: 3
[ Start Tile, End Tile ]
- Resolution: 117925.66103816027
- Scale: 1.3585063321722707E8
-
Level ID: 4
[ Start Tile, End Tile ]
- Resolution: 58962.83051908013
- Scale: 6.792531660861354E7
-
Level ID: 5
[ Start Tile, End Tile ]
- Resolution: 29481.415259540066
- Scale: 3.396265830430677E7
-
Level ID: 6
[ Start Tile, End Tile ]
- Resolution: 14740.707629770033
- Scale: 1.6981329152153384E7
-
Level ID: 7
[ Start Tile, End Tile ]
- Resolution: 7370.353814885017
- Scale: 8490664.576076692
-
Level ID: 8
[ Start Tile, End Tile ]
- Resolution: 3685.1769074425083
- Scale: 4245332.288038346
-
Level ID: 9
[ Start Tile, End Tile ]
- Resolution: 1842.5884537212542
- Scale: 2122666.144019173
-
Level ID: 10
[ Start Tile, End Tile ]
- Resolution: 921.2942268606271
- Scale: 1061333.0720095865
-
Level ID: 11
[ Start Tile, End Tile ]
- Resolution: 460.64711343031354
- Scale: 530666.5360047932
-
Level ID: 12
[ Start Tile, End Tile ]
- Resolution: 230.32355671515677
- Scale: 265333.2680023966
-
Level ID: 13
[ Start Tile, End Tile ]
- Resolution: 115.16177835757838
- Scale: 132666.6340011983
-
Level ID: 14
[ Start Tile, End Tile ]
- Resolution: 57.58088917878919
- Scale: 66333.31700059916
-
Level ID: 15
[ Start Tile, End Tile ]
- Resolution: 28.790444589394596
- Scale: 33166.65850029958
-
Level ID: 16
[ Start Tile, End Tile ]
- Resolution: 14.395222294697298
- Scale: 16583.32925014979
-
Level ID: 17
[ Start Tile, End Tile ]
- Resolution: 7.197611147348649
- Scale: 8291.664625074895
-
Level ID: 18
[ Start Tile, End Tile ]
- Resolution: 3.5988055736743245
- Scale: 4145.832312537447
-
Level ID: 19
[ Start Tile, End Tile ]
- Resolution: 1.7994027868371623
- Scale: 2072.9161562687236
-
Level ID: 20
[ Start Tile, End Tile ]
- Resolution: 0.8997013934185811
- Scale: 1036.4580781343618
-
Level ID: 21
[ Start Tile, End Tile ]
- Resolution: 0.44985069670929057
- Scale: 518.2290390671809
-
Level ID: 22
[ Start Tile, End Tile ]
- Resolution: 0.22492534835464528
- Scale: 259.11451953359045
-
Level ID: 23
[ Start Tile, End Tile ]
- Resolution: 0.11246267417732264
- Scale: 129.55725976679523
- Format: Mixed
- Compression Quality: 75.0
- Origin: X: -1.197558769030801E8
Y: 1.1438617025019537E8
- Spatial Reference: 102656
(2234)
LatestVCSWkid(0)
Storage Info:
- Storage Format: esriMapCacheStorageModeCompactV2
- Packet Size: 128
Initial Extent:
XMin: 983365.5502947867
YMin: 744228.0819599122
XMax: 1001377.8983073139
YMax: 758200.2771471996
Spatial Reference: 102656
(2234)
LatestVCSWkid(0)
Full Extent:
XMin: 967500.0088280122
YMin: 740000.0152528438
XMax: 1005000.0088421188
YMax: 777500.0152669505
Spatial Reference: 102656
(2234)
LatestVCSWkid(0)
Units: esriFeet
Supported Image Format Types: PNG32,PNG24,PNG,JPG,DIB,TIFF,EMF,PS,PDF,GIF,SVG,SVGZ,BMP
Document Info:
Title: Scene2
Author:
Comments:
Subject:
Category:
Keywords:
AntialiasingMode: Fast
TextAntialiasingMode: Force
Supports Dynamic Layers: false
MaxRecordCount: 1000
MaxSelectionCount: 2000
MaxImageHeight: 4096
MaxImageWidth: 4096
Supported Query Formats: JSON, geoJSON, PBF
Supports Query Data Elements: true
Min Scale: 132667
Max Scale: 2235
Min LOD: 13
Max LOD: 18
Supports Datum Transformation: true
Child Resources:
Info
Supported Operations:
QueryLegends
Return Updates