{
 "currentVersion": 11.5,
 "serviceDescription": "Scene5_WEL",
 "serviceItemId": "ee22c47b9cfb46cd8f59234f432c194a",
 "name": "Scene5_WEL",
 "description": "",
 "extent": {
  "xmin": 967500.0088285198,
  "ymin": 740000.0152655755,
  "xmax": 1005000.0088285198,
  "ymax": 777500.0152655755,
  "spatialReference": {
   "wkid": 102656,
   "latestWkid": 2234
  }
 },
 "initialExtent": {
  "xmin": 967500.0088285198,
  "ymin": 740000.0152655755,
  "xmax": 1005000.0088285198,
  "ymax": 777500.0152655755,
  "spatialReference": {
   "wkid": 102656,
   "latestWkid": 2234
  }
 },
 "fullExtent": {
  "xmin": 967500.0088285198,
  "ymin": 740000.0152655755,
  "xmax": 1005000.0088285198,
  "ymax": 777500.0152655755,
  "spatialReference": {
   "wkid": 102656,
   "latestWkid": 2234
  }
 },
 "sortableFields": "",
 "bandCount": 1,
 "pixelType": "F64",
 "minValues": [
  46.180152893066406
 ],
 "maxValues": [
  1024.1649169921875
 ],
 "meanValues": [
  294.30158470888864
 ],
 "stdvValues": [
  147.25608652149344
 ],
 "serviceProperties": "Center<\/MosaicMethod>First<\/MosaicOperator>true<\/SortAscending><\/LockImageID><\/TileOrderField>0<\/TileOrderBase>0.000000<\/AvgImageSpacingX>0.000000<\/AvgImageSpacingY>0.0<\/ViewPointX>0.0<\/ViewPointY>0.0<\/ViewPointDefShiftX>0.0<\/ViewPointDefShiftY>None<\/CompressionMethod>75<\/CompressionQuality>0.100000<\/CompressionTolerance>Bilinear<\/SamplingMethod><\/ImageServiceProperties><\/ImageServer>",
 "allowedFields": "",
 "hasMultidimensions": false,
 "pixelSizeX": 0.25,
 "pixelSizeY": 0.25,
 "meanPixelSize": 0.07620015240030481,
 "datasetFormat": "FGDBR",
 "uncompressedSize": 180000000000,
 "blockWidth": 128,
 "blockHeight": 128,
 "compressionType": "LZ77",
 "bandNames": [
  "Band_1"
 ],
 "allowCopy": true,
 "allowAnalysis": true,
 "itemAccess": false,
 "inspectionCapabilities": "",
 "minPixelSize": 1.7994027868371623,
 "maxPixelSize": 943405.2883052821,
 "copyrightText": "",
 "serviceDataType": "esriImageServiceDataTypeGeneric",
 "serviceSourceType": "esriImageServiceSourceTypeDataset",
 "objectIdField": "",
 "fields": [],
 "capabilities": "Image,Metadata,Mensuration,TileMap",
 "defaultMosaicMethod": "Center",
 "allowedMosaicMethods": "",
 "sortField": "",
 "sortValue": null,
 "sortAscending": true,
 "mosaicOperator": "First",
 "defaultCompressionQuality": 75,
 "defaultResamplingMethod": "Bilinear",
 "maxImageHeight": 4100,
 "maxImageWidth": 15000,
 "singleFusedMapCache": true,
 "tileInfo": {
  "rows": 256,
  "cols": 256,
  "dpi": 96,
  "format": "LERC",
  "compressionQuality": 0,
  "lercError": 0.05,
  "origin": {
   "x": -1.197558769030801E8,
   "y": 1.1438617025019537E8
  },
  "spatialReference": {
   "wkid": 102656,
   "latestWkid": 2234
  },
  "lods": [
   {
    "level": 0,
    "resolution": 943405.2883052821,
    "scale": 1.0868050657378166E9
   },
   {
    "level": 1,
    "resolution": 471702.64415264106,
    "scale": 5.434025328689083E8
   },
   {
    "level": 2,
    "resolution": 235851.32207632053,
    "scale": 2.7170126643445414E8
   },
   {
    "level": 3,
    "resolution": 117925.66103816027,
    "scale": 1.3585063321722707E8
   },
   {
    "level": 4,
    "resolution": 58962.83051908013,
    "scale": 6.792531660861354E7
   },
   {
    "level": 5,
    "resolution": 29481.415259540066,
    "scale": 3.396265830430677E7
   },
   {
    "level": 6,
    "resolution": 14740.707629770033,
    "scale": 1.6981329152153384E7
   },
   {
    "level": 7,
    "resolution": 7370.353814885017,
    "scale": 8490664.576076692
   },
   {
    "level": 8,
    "resolution": 3685.1769074425083,
    "scale": 4245332.288038346
   },
   {
    "level": 9,
    "resolution": 1842.5884537212542,
    "scale": 2122666.144019173
   },
   {
    "level": 10,
    "resolution": 921.2942268606271,
    "scale": 1061333.0720095865
   },
   {
    "level": 11,
    "resolution": 460.64711343031354,
    "scale": 530666.5360047932
   },
   {
    "level": 12,
    "resolution": 230.32355671515677,
    "scale": 265333.2680023966
   },
   {
    "level": 13,
    "resolution": 115.16177835757838,
    "scale": 132666.6340011983
   },
   {
    "level": 14,
    "resolution": 57.58088917878919,
    "scale": 66333.31700059916
   },
   {
    "level": 15,
    "resolution": 28.790444589394596,
    "scale": 33166.65850029958
   },
   {
    "level": 16,
    "resolution": 14.395222294697298,
    "scale": 16583.32925014979
   },
   {
    "level": 17,
    "resolution": 7.197611147348649,
    "scale": 8291.664625074895
   },
   {
    "level": 18,
    "resolution": 3.5988055736743245,
    "scale": 4145.832312537447
   },
   {
    "level": 19,
    "resolution": 1.7994027868371623,
    "scale": 2072.9161562687236
   },
   {
    "level": 20,
    "resolution": 0.8997013934185811,
    "scale": 1036.4580781343618
   },
   {
    "level": 21,
    "resolution": 0.44985069670929057,
    "scale": 518.2290390671809
   },
   {
    "level": 22,
    "resolution": 0.22492534835464528,
    "scale": 259.11451953359045
   },
   {
    "level": 23,
    "resolution": 0.11246267417732264,
    "scale": 129.55725976679523
   }
  ]
 },
 "storageInfo": {
  "storageFormat": "esriMapCacheStorageModeCompactV2",
  "packetSize": 128
 },
 "cacheType": "Elevation",
 "allowRasterFunction": true,
 "rasterFunctionInfos": [
  {
   "name": "None",
   "description": "",
   "help": ""
  }
 ],
 "rasterTypeInfos": [
  {
   "name": "Raster Dataset",
   "description": "Supports all ArcGIS Raster Datasets",
   "help": ""
  }
 ],
 "mensurationCapabilities": "Basic",
 "hasHistograms": true,
 "hasColormap": false,
 "hasRasterAttributeTable": false,
 "minScale": 1.0868050657378166E9,
 "maxScale": 2072.9161562687236,
 "minLOD": 0,
 "maxLOD": 19,
 "exportTilesAllowed": false,
 "supportsStatistics": false,
 "supportsAdvancedQueries": false,
 "editFieldsInfo": null,
 "ownershipBasedAccessControlForRasters": null,
 "allowComputeTiePoints": false,
 "useStandardizedQueries": true,
 "advancedQueryCapabilities": {
  "useStandardizedQueries": true,
  "supportsStatistics": false,
  "supportsOrderBy": false,
  "supportsDistinct": false,
  "supportsPagination": false
 },
 "spatialReference": {
  "wkid": 102656,
  "latestWkid": 2234
 }
}
