<?xml version="1.0" encoding="UTF-8" standalone="no"?>
<metadata xml:lang="en">
<Esri>
<CreaDate>20250520</CreaDate>
<CreaTime>16264200</CreaTime>
<ArcGISFormat>1.0</ArcGISFormat>
<SyncOnce>FALSE</SyncOnce>
<DataProperties>
<itemProps>
<itemName Sync="TRUE">RasterMosaic2prj</itemName>
<itemLocation>
<linkage Sync="TRUE">file://\\gisdata\GIS\GIS\ArcGISPro\Databases\DefaultAProDB.gdb</linkage>
<protocol Sync="TRUE">Local Area Network</protocol>
</itemLocation>
<imsContentType Sync="TRUE">002</imsContentType>
<nativeExtBox>
<westBL Sync="TRUE">967500.008829</westBL>
<eastBL Sync="TRUE">1005000.008829</eastBL>
<southBL Sync="TRUE">740000.015266</southBL>
<northBL Sync="TRUE">777500.015266</northBL>
<exTypeCode Sync="TRUE">1</exTypeCode>
</nativeExtBox>
</itemProps>
<coordRef>
<type Sync="TRUE">Projected</type>
<geogcsn Sync="TRUE">GCS_North_American_1983</geogcsn>
<csUnits Sync="TRUE">Linear Unit: Foot_US (0.304801)</csUnits>
<projcsn Sync="TRUE">NAD_1983_StatePlane_Connecticut_FIPS_0600_Feet</projcsn>
<peXml Sync="TRUE">&lt;ProjectedCoordinateSystem xsi:type='typens:ProjectedCoordinateSystem' xmlns:xsi='http://www.w3.org/2001/XMLSchema-instance' xmlns:xs='http://www.w3.org/2001/XMLSchema' xmlns:typens='http://www.esri.com/schemas/ArcGIS/3.4.0'&gt;&lt;WKT&gt;PROJCS[&amp;quot;NAD_1983_StatePlane_Connecticut_FIPS_0600_Feet&amp;quot;,GEOGCS[&amp;quot;GCS_North_American_1983&amp;quot;,DATUM[&amp;quot;D_North_American_1983&amp;quot;,SPHEROID[&amp;quot;GRS_1980&amp;quot;,6378137.0,298.257222101]],PRIMEM[&amp;quot;Greenwich&amp;quot;,0.0],UNIT[&amp;quot;Degree&amp;quot;,0.0174532925199433]],PROJECTION[&amp;quot;Lambert_Conformal_Conic&amp;quot;],PARAMETER[&amp;quot;False_Easting&amp;quot;,999999.999996],PARAMETER[&amp;quot;False_Northing&amp;quot;,499999.999998],PARAMETER[&amp;quot;Central_Meridian&amp;quot;,-72.75],PARAMETER[&amp;quot;Standard_Parallel_1&amp;quot;,41.2],PARAMETER[&amp;quot;Standard_Parallel_2&amp;quot;,41.86666666666667],PARAMETER[&amp;quot;Latitude_Of_Origin&amp;quot;,40.83333333333334],UNIT[&amp;quot;Foot_US&amp;quot;,0.3048006096012192],AUTHORITY[&amp;quot;EPSG&amp;quot;,2234]]&lt;/WKT&gt;&lt;XOrigin&gt;-119756300&lt;/XOrigin&gt;&lt;YOrigin&gt;-96342500&lt;/YOrigin&gt;&lt;XYScale&gt;37294945.500735737&lt;/XYScale&gt;&lt;ZOrigin&gt;-100000&lt;/ZOrigin&gt;&lt;ZScale&gt;10000&lt;/ZScale&gt;&lt;MOrigin&gt;-100000&lt;/MOrigin&gt;&lt;MScale&gt;10000&lt;/MScale&gt;&lt;XYTolerance&gt;0.0032808333333333331&lt;/XYTolerance&gt;&lt;ZTolerance&gt;0.001&lt;/ZTolerance&gt;&lt;MTolerance&gt;0.001&lt;/MTolerance&gt;&lt;HighPrecision&gt;true&lt;/HighPrecision&gt;&lt;WKID&gt;102656&lt;/WKID&gt;&lt;LatestWKID&gt;2234&lt;/LatestWKID&gt;&lt;/ProjectedCoordinateSystem&gt;</peXml>
</coordRef>
<RasterProperties>
<General>
<PixelDepth Sync="TRUE">64</PixelDepth>
<HasColormap Sync="TRUE">FALSE</HasColormap>
<CompressionType Sync="TRUE">LZW</CompressionType>
<NumBands Sync="TRUE">1</NumBands>
<Format Sync="TRUE">TIFF</Format>
<HasPyramids Sync="TRUE">TRUE</HasPyramids>
<SourceType Sync="TRUE">continuous</SourceType>
<PixelType Sync="TRUE">double precision</PixelType>
<NoDataValue Sync="TRUE">3.4e+38</NoDataValue>
</General>
</RasterProperties>
<lineage>
<Process Date="20250520" Time="162648" ToolSource="c:\program files\arcgis\pro\Resources\ArcToolbox\toolboxes\Data Management Tools.tbx\MosaicToNewRaster">MosaicToNewRaster \\sqlbaks\GISData\Lidar\Lidar2023\DEM\TIFFS\000745_ne.tif;\\sqlbaks\GISData\Lidar\Lidar2023\DEM\TIFFS\000745_nw.tif;\\sqlbaks\GISData\Lidar\Lidar2023\DEM\TIFFS\000745_se.tif;\\sqlbaks\GISData\Lidar\Lidar2023\DEM\TIFFS\000745_sw.tif;\\sqlbaks\GISData\Lidar\Lidar2023\DEM\TIFFS\000750_ne.tif;\\sqlbaks\GISData\Lidar\Lidar2023\DEM\TIFFS\000750_nw.tif;\\sqlbaks\GISData\Lidar\Lidar2023\DEM\TIFFS\000750_se.tif;\\sqlbaks\GISData\Lidar\Lidar2023\DEM\TIFFS\000750_sw.tif;\\sqlbaks\GISData\Lidar\Lidar2023\DEM\TIFFS\000755_ne.tif;\\sqlbaks\GISData\Lidar\Lidar2023\DEM\TIFFS\000755_nw.tif;\\sqlbaks\GISData\Lidar\Lidar2023\DEM\TIFFS\000755_se.tif;\\sqlbaks\GISData\Lidar\Lidar2023\DEM\TIFFS\000755_sw.tif;\\sqlbaks\GISData\Lidar\Lidar2023\DEM\TIFFS\000760_ne.tif;\\sqlbaks\GISData\Lidar\Lidar2023\DEM\TIFFS\000760_nw.tif;\\sqlbaks\GISData\Lidar\Lidar2023\DEM\TIFFS\000760_se.tif;\\sqlbaks\GISData\Lidar\Lidar2023\DEM\TIFFS\000760_sw.tif;\\sqlbaks\GISData\Lidar\Lidar2023\DEM\TIFFS\000765_ne.tif;\\sqlbaks\GISData\Lidar\Lidar2023\DEM\TIFFS\000765_nw.tif;\\sqlbaks\GISData\Lidar\Lidar2023\DEM\TIFFS\000765_se.tif;\\sqlbaks\GISData\Lidar\Lidar2023\DEM\TIFFS\000765_sw.tif;\\sqlbaks\GISData\Lidar\Lidar2023\DEM\TIFFS\000770_ne.tif;\\sqlbaks\GISData\Lidar\Lidar2023\DEM\TIFFS\000770_nw.tif;\\sqlbaks\GISData\Lidar\Lidar2023\DEM\TIFFS\000770_se.tif;\\sqlbaks\GISData\Lidar\Lidar2023\DEM\TIFFS\000770_sw.tif;\\sqlbaks\GISData\Lidar\Lidar2023\DEM\TIFFS\000775_se.tif;\\sqlbaks\GISData\Lidar\Lidar2023\DEM\TIFFS\000775_sw.tif;\\sqlbaks\GISData\Lidar\Lidar2023\DEM\TIFFS\965740_ne.tif;\\sqlbaks\GISData\Lidar\Lidar2023\DEM\TIFFS\965740_se.tif;\\sqlbaks\GISData\Lidar\Lidar2023\DEM\TIFFS\965745_ne.tif;\\sqlbaks\GISData\Lidar\Lidar2023\DEM\TIFFS\965745_se.tif;\\sqlbaks\GISData\Lidar\Lidar2023\DEM\TIFFS\965750_ne.tif;\\sqlbaks\GISData\Lidar\Lidar2023\DEM\TIFFS\965750_se.tif;\\sqlbaks\GISData\Lidar\Lidar2023\DEM\TIFFS\965755_ne.tif;\\sqlbaks\GISData\Lidar\Lidar2023\DEM\TIFFS\965755_se.tif;\\sqlbaks\GISData\Lidar\Lidar2023\DEM\TIFFS\965760_ne.tif;\\sqlbaks\GISData\Lidar\Lidar2023\DEM\TIFFS\965760_se.tif;\\sqlbaks\GISData\Lidar\Lidar2023\DEM\TIFFS\965765_ne.tif;\\sqlbaks\GISData\Lidar\Lidar2023\DEM\TIFFS\965765_se.tif;\\sqlbaks\GISData\Lidar\Lidar2023\DEM\TIFFS\965770_ne.tif;\\sqlbaks\GISData\Lidar\Lidar2023\DEM\TIFFS\965770_se.tif;\\sqlbaks\GISData\Lidar\Lidar2023\DEM\TIFFS\965775_se.tif;\\sqlbaks\GISData\Lidar\Lidar2023\DEM\TIFFS\970740_ne.tif;\\sqlbaks\GISData\Lidar\Lidar2023\DEM\TIFFS\970740_nw.tif;\\sqlbaks\GISData\Lidar\Lidar2023\DEM\TIFFS\970740_se.tif;\\sqlbaks\GISData\Lidar\Lidar2023\DEM\TIFFS\970740_sw.tif;\\sqlbaks\GISData\Lidar\Lidar2023\DEM\TIFFS\970745_ne.tif;\\sqlbaks\GISData\Lidar\Lidar2023\DEM\TIFFS\970745_nw.tif;\\sqlbaks\GISData\Lidar\Lidar2023\DEM\TIFFS\970745_se.tif;\\sqlbaks\GISData\Lidar\Lidar2023\DEM\TIFFS\970745_sw.tif;\\sqlbaks\GISData\Lidar\Lidar2023\DEM\TIFFS\970750_ne.tif;\\sqlbaks\GISData\Lidar\Lidar2023\DEM\TIFFS\970750_nw.tif;\\sqlbaks\GISData\Lidar\Lidar2023\DEM\TIFFS\970750_se.tif;\\sqlbaks\GISData\Lidar\Lidar2023\DEM\TIFFS\970750_sw.tif;\\sqlbaks\GISData\Lidar\Lidar2023\DEM\TIFFS\970755_ne.tif;\\sqlbaks\GISData\Lidar\Lidar2023\DEM\TIFFS\970755_nw.tif;\\sqlbaks\GISData\Lidar\Lidar2023\DEM\TIFFS\970755_se.tif;\\sqlbaks\GISData\Lidar\Lidar2023\DEM\TIFFS\970755_sw.tif;\\sqlbaks\GISData\Lidar\Lidar2023\DEM\TIFFS\970760_ne.tif;\\sqlbaks\GISData\Lidar\Lidar2023\DEM\TIFFS\970760_nw.tif;\\sqlbaks\GISData\Lidar\Lidar2023\DEM\TIFFS\970760_se.tif;\\sqlbaks\GISData\Lidar\Lidar2023\DEM\TIFFS\970760_sw.tif;\\sqlbaks\GISData\Lidar\Lidar2023\DEM\TIFFS\970765_ne.tif;\\sqlbaks\GISData\Lidar\Lidar2023\DEM\TIFFS\970765_nw.tif;\\sqlbaks\GISData\Lidar\Lidar2023\DEM\TIFFS\970765_se.tif;\\sqlbaks\GISData\Lidar\Lidar2023\DEM\TIFFS\970765_sw.tif;\\sqlbaks\GISData\Lidar\Lidar2023\DEM\TIFFS\970770_ne.tif;\\sqlbaks\GISData\Lidar\Lidar2023\DEM\TIFFS\970770_nw.tif;\\sqlbaks\GISData\Lidar\Lidar2023\DEM\TIFFS\970770_se.tif;\\sqlbaks\GISData\Lidar\Lidar2023\DEM\TIFFS\970770_sw.tif;\\sqlbaks\GISData\Lidar\Lidar2023\DEM\TIFFS\970775_se.tif;\\sqlbaks\GISData\Lidar\Lidar2023\DEM\TIFFS\970775_sw.tif;\\sqlbaks\GISData\Lidar\Lidar2023\DEM\TIFFS\975740_ne.tif;\\sqlbaks\GISData\Lidar\Lidar2023\DEM\TIFFS\975740_nw.tif;\\sqlbaks\GISData\Lidar\Lidar2023\DEM\TIFFS\975740_se.tif;\\sqlbaks\GISData\Lidar\Lidar2023\DEM\TIFFS\975740_sw.tif;\\sqlbaks\GISData\Lidar\Lidar2023\DEM\TIFFS\975745_ne.tif;\\sqlbaks\GISData\Lidar\Lidar2023\DEM\TIFFS\975745_nw.tif;\\sqlbaks\GISData\Lidar\Lidar2023\DEM\TIFFS\975745_se.tif;\\sqlbaks\GISData\Lidar\Lidar2023\DEM\TIFFS\975745_sw.tif;\\sqlbaks\GISData\Lidar\Lidar2023\DEM\TIFFS\975750_ne.tif;\\sqlbaks\GISData\Lidar\Lidar2023\DEM\TIFFS\975750_nw.tif;\\sqlbaks\GISData\Lidar\Lidar2023\DEM\TIFFS\975750_se.tif;\\sqlbaks\GISData\Lidar\Lidar2023\DEM\TIFFS\975750_sw.tif;\\sqlbaks\GISData\Lidar\Lidar2023\DEM\TIFFS\975755_ne.tif;\\sqlbaks\GISData\Lidar\Lidar2023\DEM\TIFFS\975755_nw.tif;\\sqlbaks\GISData\Lidar\Lidar2023\DEM\TIFFS\975755_se.tif;\\sqlbaks\GISData\Lidar\Lidar2023\DEM\TIFFS\975755_sw.tif;\\sqlbaks\GISData\Lidar\Lidar2023\DEM\TIFFS\975760_ne.tif;\\sqlbaks\GISData\Lidar\Lidar2023\DEM\TIFFS\975760_nw.tif;\\sqlbaks\GISData\Lidar\Lidar2023\DEM\TIFFS\975760_se.tif;\\sqlbaks\GISData\Lidar\Lidar2023\DEM\TIFFS\975760_sw.tif;\\sqlbaks\GISData\Lidar\Lidar2023\DEM\TIFFS\975765_ne.tif;\\sqlbaks\GISData\Lidar\Lidar2023\DEM\TIFFS\975765_nw.tif;\\sqlbaks\GISData\Lidar\Lidar2023\DEM\TIFFS\975765_se.tif;\\sqlbaks\GISData\Lidar\Lidar2023\DEM\TIFFS\975765_sw.tif;\\sqlbaks\GISData\Lidar\Lidar2023\DEM\TIFFS\975770_ne.tif;\\sqlbaks\GISData\Lidar\Lidar2023\DEM\TIFFS\975770_nw.tif;\\sqlbaks\GISData\Lidar\Lidar2023\DEM\TIFFS\975770_se.tif;\\sqlbaks\GISData\Lidar\Lidar2023\DEM\TIFFS\975770_sw.tif;\\sqlbaks\GISData\Lidar\Lidar2023\DEM\TIFFS\975775_se.tif;\\sqlbaks\GISData\Lidar\Lidar2023\DEM\TIFFS\975775_sw.tif;\\sqlbaks\GISData\Lidar\Lidar2023\DEM\TIFFS\980740_ne.tif;\\sqlbaks\GISData\Lidar\Lidar2023\DEM\TIFFS\980740_nw.tif;\\sqlbaks\GISData\Lidar\Lidar2023\DEM\TIFFS\980740_se.tif;\\sqlbaks\GISData\Lidar\Lidar2023\DEM\TIFFS\980740_sw.tif;\\sqlbaks\GISData\Lidar\Lidar2023\DEM\TIFFS\980745_ne.tif;\\sqlbaks\GISData\Lidar\Lidar2023\DEM\TIFFS\980745_nw.tif;\\sqlbaks\GISData\Lidar\Lidar2023\DEM\TIFFS\980745_se.tif;\\sqlbaks\GISData\Lidar\Lidar2023\DEM\TIFFS\980745_sw.tif;\\sqlbaks\GISData\Lidar\Lidar2023\DEM\TIFFS\980750_ne.tif;\\sqlbaks\GISData\Lidar\Lidar2023\DEM\TIFFS\980750_nw.tif;\\sqlbaks\GISData\Lidar\Lidar2023\DEM\TIFFS\980750_se.tif;\\sqlbaks\GISData\Lidar\Lidar2023\DEM\TIFFS\980750_sw.tif;\\sqlbaks\GISData\Lidar\Lidar2023\DEM\TIFFS\980755_ne.tif;\\sqlbaks\GISData\Lidar\Lidar2023\DEM\TIFFS\980755_nw.tif;\\sqlbaks\GISData\Lidar\Lidar2023\DEM\TIFFS\980755_se.tif;\\sqlbaks\GISData\Lidar\Lidar2023\DEM\TIFFS\980755_sw.tif;\\sqlbaks\GISData\Lidar\Lidar2023\DEM\TIFFS\980760_ne.tif;\\sqlbaks\GISData\Lidar\Lidar2023\DEM\TIFFS\980760_nw.tif;\\sqlbaks\GISData\Lidar\Lidar2023\DEM\TIFFS\980760_se.tif;\\sqlbaks\GISData\Lidar\Lidar2023\DEM\TIFFS\980760_sw.tif;\\sqlbaks\GISData\Lidar\Lidar2023\DEM\TIFFS\980765_ne.tif;\\sqlbaks\GISData\Lidar\Lidar2023\DEM\TIFFS\980765_nw.tif;\\sqlbaks\GISData\Lidar\Lidar2023\DEM\TIFFS\980765_se.tif;\\sqlbaks\GISData\Lidar\Lidar2023\DEM\TIFFS\980765_sw.tif;\\sqlbaks\GISData\Lidar\Lidar2023\DEM\TIFFS\980770_ne.tif;\\sqlbaks\GISData\Lidar\Lidar2023\DEM\TIFFS\980770_nw.tif;\\sqlbaks\GISData\Lidar\Lidar2023\DEM\TIFFS\980770_se.tif;\\sqlbaks\GISData\Lidar\Lidar2023\DEM\TIFFS\980770_sw.tif;\\sqlbaks\GISData\Lidar\Lidar2023\DEM\TIFFS\980775_se.tif;\\sqlbaks\GISData\Lidar\Lidar2023\DEM\TIFFS\980775_sw.tif;\\sqlbaks\GISData\Lidar\Lidar2023\DEM\TIFFS\985740_ne.tif;\\sqlbaks\GISData\Lidar\Lidar2023\DEM\TIFFS\985740_nw.tif;\\sqlbaks\GISData\Lidar\Lidar2023\DEM\TIFFS\985740_se.tif;\\sqlbaks\GISData\Lidar\Lidar2023\DEM\TIFFS\985740_sw.tif;\\sqlbaks\GISData\Lidar\Lidar2023\DEM\TIFFS\985745_ne.tif;\\sqlbaks\GISData\Lidar\Lidar2023\DEM\TIFFS\985745_nw.tif;\\sqlbaks\GISData\Lidar\Lidar2023\DEM\TIFFS\985745_se.tif;\\sqlbaks\GISData\Lidar\Lidar2023\DEM\TIFFS\985745_sw.tif;\\sqlbaks\GISData\Lidar\Lidar2023\DEM\TIFFS\985750_ne.tif;\\sqlbaks\GISData\Lidar\Lidar2023\DEM\TIFFS\985750_nw.tif;\\sqlbaks\GISData\Lidar\Lidar2023\DEM\TIFFS\985750_se.tif;\\sqlbaks\GISData\Lidar\Lidar2023\DEM\TIFFS\985750_sw.tif;\\sqlbaks\GISData\Lidar\Lidar2023\DEM\TIFFS\985755_ne.tif;\\sqlbaks\GISData\Lidar\Lidar2023\DEM\TIFFS\985755_nw.tif;\\sqlbaks\GISData\Lidar\Lidar2023\DEM\TIFFS\985755_se.tif;\\sqlbaks\GISData\Lidar\Lidar2023\DEM\TIFFS\985755_sw.tif;\\sqlbaks\GISData\Lidar\Lidar2023\DEM\TIFFS\985760_ne.tif;\\sqlbaks\GISData\Lidar\Lidar2023\DEM\TIFFS\985760_nw.tif;\\sqlbaks\GISData\Lidar\Lidar2023\DEM\TIFFS\985760_se.tif;\\sqlbaks\GISData\Lidar\Lidar2023\DEM\TIFFS\985760_sw.tif;\\sqlbaks\GISData\Lidar\Lidar2023\DEM\TIFFS\985765_ne.tif;\\sqlbaks\GISData\Lidar\Lidar2023\DEM\TIFFS\985765_nw.tif;\\sqlbaks\GISData\Lidar\Lidar2023\DEM\TIFFS\985765_se.tif;\\sqlbaks\GISData\Lidar\Lidar2023\DEM\TIFFS\985765_sw.tif;\\sqlbaks\GISData\Lidar\Lidar2023\DEM\TIFFS\985770_ne.tif;\\sqlbaks\GISData\Lidar\Lidar2023\DEM\TIFFS\985770_nw.tif;\\sqlbaks\GISData\Lidar\Lidar2023\DEM\TIFFS\985770_se.tif;\\sqlbaks\GISData\Lidar\Lidar2023\DEM\TIFFS\985770_sw.tif;\\sqlbaks\GISData\Lidar\Lidar2023\DEM\TIFFS\985775_se.tif;\\sqlbaks\GISData\Lidar\Lidar2023\DEM\TIFFS\985775_sw.tif;\\sqlbaks\GISData\Lidar\Lidar2023\DEM\TIFFS\990740_ne.tif;\\sqlbaks\GISData\Lidar\Lidar2023\DEM\TIFFS\990740_nw.tif;\\sqlbaks\GISData\Lidar\Lidar2023\DEM\TIFFS\990740_se.tif;\\sqlbaks\GISData\Lidar\Lidar2023\DEM\TIFFS\990740_sw.tif;\\sqlbaks\GISData\Lidar\Lidar2023\DEM\TIFFS\990745_ne.tif;\\sqlbaks\GISData\Lidar\Lidar2023\DEM\TIFFS\990745_nw.tif;\\sqlbaks\GISData\Lidar\Lidar2023\DEM\TIFFS\990745_se.tif;\\sqlbaks\GISData\Lidar\Lidar2023\DEM\TIFFS\990745_sw.tif;\\sqlbaks\GISData\Lidar\Lidar2023\DEM\TIFFS\990750_ne.tif;\\sqlbaks\GISData\Lidar\Lidar2023\DEM\TIFFS\990750_nw.tif;\\sqlbaks\GISData\Lidar\Lidar2023\DEM\TIFFS\990750_se.tif;\\sqlbaks\GISData\Lidar\Lidar2023\DEM\TIFFS\990750_sw.tif;\\sqlbaks\GISData\Lidar\Lidar2023\DEM\TIFFS\990755_ne.tif;\\sqlbaks\GISData\Lidar\Lidar2023\DEM\TIFFS\990755_nw.tif;\\sqlbaks\GISData\Lidar\Lidar2023\DEM\TIFFS\990755_se.tif;\\sqlbaks\GISData\Lidar\Lidar2023\DEM\TIFFS\990755_sw.tif;\\sqlbaks\GISData\Lidar\Lidar2023\DEM\TIFFS\990760_ne.tif;\\sqlbaks\GISData\Lidar\Lidar2023\DEM\TIFFS\990760_nw.tif;\\sqlbaks\GISData\Lidar\Lidar2023\DEM\TIFFS\990760_se.tif;\\sqlbaks\GISData\Lidar\Lidar2023\DEM\TIFFS\990760_sw.tif;\\sqlbaks\GISData\Lidar\Lidar2023\DEM\TIFFS\990765_ne.tif;\\sqlbaks\GISData\Lidar\Lidar2023\DEM\TIFFS\990765_nw.tif;\\sqlbaks\GISData\Lidar\Lidar2023\DEM\TIFFS\990765_se.tif;\\sqlbaks\GISData\Lidar\Lidar2023\DEM\TIFFS\990765_sw.tif;\\sqlbaks\GISData\Lidar\Lidar2023\DEM\TIFFS\990770_ne.tif;\\sqlbaks\GISData\Lidar\Lidar2023\DEM\TIFFS\990770_nw.tif;\\sqlbaks\GISData\Lidar\Lidar2023\DEM\TIFFS\990770_se.tif;\\sqlbaks\GISData\Lidar\Lidar2023\DEM\TIFFS\990770_sw.tif;\\sqlbaks\GISData\Lidar\Lidar2023\DEM\TIFFS\990775_se.tif;\\sqlbaks\GISData\Lidar\Lidar2023\DEM\TIFFS\990775_sw.tif;\\sqlbaks\GISData\Lidar\Lidar2023\DEM\TIFFS\995740_ne.tif;\\sqlbaks\GISData\Lidar\Lidar2023\DEM\TIFFS\995740_nw.tif;\\sqlbaks\GISData\Lidar\Lidar2023\DEM\TIFFS\995740_se.tif;\\sqlbaks\GISData\Lidar\Lidar2023\DEM\TIFFS\995740_sw.tif;\\sqlbaks\GISData\Lidar\Lidar2023\DEM\TIFFS\995745_ne.tif;\\sqlbaks\GISData\Lidar\Lidar2023\DEM\TIFFS\995745_nw.tif;\\sqlbaks\GISData\Lidar\Lidar2023\DEM\TIFFS\995745_se.tif;\\sqlbaks\GISData\Lidar\Lidar2023\DEM\TIFFS\995745_sw.tif;\\sqlbaks\GISData\Lidar\Lidar2023\DEM\TIFFS\995750_ne.tif;\\sqlbaks\GISData\Lidar\Lidar2023\DEM\TIFFS\995750_nw.tif;\\sqlbaks\GISData\Lidar\Lidar2023\DEM\TIFFS\995750_se.tif;\\sqlbaks\GISData\Lidar\Lidar2023\DEM\TIFFS\995750_sw.tif;\\sqlbaks\GISData\Lidar\Lidar2023\DEM\TIFFS\995755_ne.tif;\\sqlbaks\GISData\Lidar\Lidar2023\DEM\TIFFS\995755_nw.tif;\\sqlbaks\GISData\Lidar\Lidar2023\DEM\TIFFS\995755_se.tif;\\sqlbaks\GISData\Lidar\Lidar2023\DEM\TIFFS\995755_sw.tif;\\sqlbaks\GISData\Lidar\Lidar2023\DEM\TIFFS\995760_ne.tif;\\sqlbaks\GISData\Lidar\Lidar2023\DEM\TIFFS\995760_nw.tif;\\sqlbaks\GISData\Lidar\Lidar2023\DEM\TIFFS\995760_se.tif;\\sqlbaks\GISData\Lidar\Lidar2023\DEM\TIFFS\995760_sw.tif;\\sqlbaks\GISData\Lidar\Lidar2023\DEM\TIFFS\995765_ne.tif;\\sqlbaks\GISData\Lidar\Lidar2023\DEM\TIFFS\995765_nw.tif;\\sqlbaks\GISData\Lidar\Lidar2023\DEM\TIFFS\995765_se.tif;\\sqlbaks\GISData\Lidar\Lidar2023\DEM\TIFFS\995765_sw.tif;\\sqlbaks\GISData\Lidar\Lidar2023\DEM\TIFFS\995770_ne.tif;\\sqlbaks\GISData\Lidar\Lidar2023\DEM\TIFFS\995770_nw.tif;\\sqlbaks\GISData\Lidar\Lidar2023\DEM\TIFFS\995770_se.tif;\\sqlbaks\GISData\Lidar\Lidar2023\DEM\TIFFS\995770_sw.tif;\\sqlbaks\GISData\Lidar\Lidar2023\DEM\TIFFS\995775_se.tif;\\sqlbaks\GISData\Lidar\Lidar2023\DEM\TIFFS\995775_sw.tif;\\sqlbaks\GISData\Lidar\Lidar2023\DEM\TIFFS\000740_ne.tif;\\sqlbaks\GISData\Lidar\Lidar2023\DEM\TIFFS\000740_nw.tif;\\sqlbaks\GISData\Lidar\Lidar2023\DEM\TIFFS\000740_se.tif;\\sqlbaks\GISData\Lidar\Lidar2023\DEM\TIFFS\000740_sw.tif \\sqlbaks\GISData\Lidar\Lidar2023\DEM RasterMosaic2.tif PROJCS["NAD_1983_2011_StatePlane_Connecticut_FIPS_0600_Ft_US",GEOGCS["GCS_NAD_1983_2011",DATUM["D_NAD_1983_2011",SPHEROID["GRS_1980",6378137.0,298.257222101]],PRIMEM["Greenwich",0.0],UNIT["Degree",0.0174532925199433]],PROJECTION["Lambert_Conformal_Conic"],PARAMETER["False_Easting",999999.999996],PARAMETER["False_Northing",499999.999998],PARAMETER["Central_Meridian",-72.75],PARAMETER["Standard_Parallel_1",41.2],PARAMETER["Standard_Parallel_2",41.86666666666667],PARAMETER["Latitude_Of_Origin",40.83333333333334],UNIT["Foot_US",0.3048006096012192]],VERTCS["NAVD88_height_(ftUS)",VDATUM["North_American_Vertical_Datum_1988"],PARAMETER["Vertical_Shift",0.0],PARAMETER["Direction",1.0],UNIT["Foot_US",0.3048006096012192]] 64_BIT 0.25 1 LAST FIRST</Process>
<Process Date="20250527" Time="151342" ToolSource="c:\program files\arcgis\pro\Resources\ArcToolbox\toolboxes\Data Management Tools.tbx\ProjectRaster">ProjectRaster RasterMosaic2.tif I:\GIS\ArcGISPro\Databases\DefaultAProDB.gdb\RasterMosaic2prj PROJCS["NAD_1983_StatePlane_Connecticut_FIPS_0600_Feet",GEOGCS["GCS_North_American_1983",DATUM["D_North_American_1983",SPHEROID["GRS_1980",6378137.0,298.257222101]],PRIMEM["Greenwich",0.0],UNIT["Degree",0.0174532925199433]],PROJECTION["Lambert_Conformal_Conic"],PARAMETER["False_Easting",999999.999996],PARAMETER["False_Northing",499999.999998],PARAMETER["Central_Meridian",-72.75],PARAMETER["Standard_Parallel_1",41.2],PARAMETER["Standard_Parallel_2",41.86666666666667],PARAMETER["Latitude_Of_Origin",40.83333333333334],UNIT["Foot_US",0.3048006096012192]] NEAREST "0.25 0.25" 'WGS_1984_(ITRF08)_To_NAD_1983_2011 + WGS_1984_(ITRF00)_To_NAD_1983' # PROJCS["NAD_1983_2011_StatePlane_Connecticut_FIPS_0600_Ft_US",GEOGCS["GCS_NAD_1983_2011",DATUM["D_NAD_1983_2011",SPHEROID["GRS_1980",6378137.0,298.257222101]],PRIMEM["Greenwich",0.0],UNIT["Degree",0.0174532925199433]],PROJECTION["Lambert_Conformal_Conic"],PARAMETER["False_Easting",999999.999996],PARAMETER["False_Northing",499999.999998],PARAMETER["Central_Meridian",-72.75],PARAMETER["Standard_Parallel_1",41.2],PARAMETER["Standard_Parallel_2",41.86666666666667],PARAMETER["Latitude_Of_Origin",40.83333333333334],UNIT["Foot_US",0.3048006096012192]],VERTCS["NAVD88_height_(ftUS)",VDATUM["North_American_Vertical_Datum_1988"],PARAMETER["Vertical_Shift",0.0],PARAMETER["Direction",1.0],UNIT["Foot_US",0.3048006096012192]] NO_VERTICAL</Process>
<Process Date="20250528" Time="074344" ToolSource="c:\program files\arcgis\pro\Resources\ArcToolbox\toolboxes\Data Management Tools.tbx\CopyMultiple">CopyMultiple "I:\GIS\ArcGISPro\Databases\DefaultAProDB.gdb\RasterMosaic2prj RasterDataset" \\sqlbaks\GISData\Lidar\Lidar2023\DSM2023.gdb RasterMosaic2prj "RasterMosaic2prj RasterDataset RasterMosaic2prj #"</Process>
<Process Date="20250528" Time="103114" ToolSource="c:\program files\arcgis\pro\Resources\ArcToolbox\toolboxes\Data Management Tools.tbx\BuildPyramids">BuildPyramids \\sqlbaks\GISData\Lidar\Lidar2023\DSM2023.gdb\RasterMosaic2prj -1 NONE NEAREST DEFAULT 75 OVERWRITE</Process>
<Process Date="20250528" Time="105713" ToolSource="c:\program files\arcgis\pro\Resources\ArcToolbox\toolboxes\Data Management Tools.tbx\CalculateStatistics">CalculateStatistics \\sqlbaks\GISData\Lidar\Lidar2023\DSM2023.gdb\RasterMosaic2prj 1 1 # OVERWRITE "Feature Set"</Process>
</lineage>
</DataProperties>
<SyncDate>20250527</SyncDate>
<SyncTime>15090500</SyncTime>
<ModDate>20250527</ModDate>
<ModTime>15090500</ModTime>
</Esri>
<dataIdInfo>
<envirDesc Sync="TRUE">Microsoft Windows 10 Version 10.0 (Build 26100) ; Esri ArcGIS 13.4.0.55405</envirDesc>
<dataLang>
<languageCode Sync="TRUE" value="eng"/>
<countryCode Sync="TRUE" value="USA"/>
</dataLang>
<idCitation>
<resTitle Sync="TRUE">Scene4a_WEL</resTitle>
<presForm>
<PresFormCd Sync="TRUE" value="011"/>
</presForm>
</idCitation>
<spatRpType>
<SpatRepTypCd Sync="TRUE" value="002"/>
</spatRpType>
<dataExt>
<geoEle>
<GeoBndBox esriExtentType="search">
<exTypeCode Sync="TRUE">1</exTypeCode>
<westBL Sync="TRUE">-72.868816</westBL>
<eastBL Sync="TRUE">-72.731721</eastBL>
<northBL Sync="TRUE">41.594932</northBL>
<southBL Sync="TRUE">41.491956</southBL>
</GeoBndBox>
</geoEle>
</dataExt>
<idAbs/>
<idPurp>testing 1:6000 hiccup by using mixed mode. Using Scene2TileScheme.xml</idPurp>
<idCredit/>
<resConst>
<Consts>
<useLimit/>
</Consts>
</resConst>
</dataIdInfo>
<mdLang>
<languageCode Sync="TRUE" value="eng"/>
<countryCode Sync="TRUE" value="USA"/>
</mdLang>
<mdChar>
<CharSetCd Sync="TRUE" value="004"/>
</mdChar>
<distInfo>
<distFormat>
<formatName Sync="TRUE">File Geodatabase Raster Dataset</formatName>
</distFormat>
</distInfo>
<mdHrLv>
<ScopeCd Sync="TRUE" value="005"/>
</mdHrLv>
<mdHrLvName Sync="TRUE">dataset</mdHrLvName>
<refSysInfo>
<RefSystem>
<refSysID>
<identCode Sync="TRUE" code="2234"/>
<idCodeSpace Sync="TRUE">EPSG</idCodeSpace>
<idVersion Sync="TRUE">5.3(9.0.0)</idVersion>
</refSysID>
</RefSystem>
</refSysInfo>
<spatRepInfo>
<Georect>
<cellGeo>
<CellGeoCd Sync="TRUE" value="002"/>
</cellGeo>
<numDims Sync="TRUE">2</numDims>
<tranParaAv Sync="TRUE">1</tranParaAv>
<chkPtAv Sync="TRUE">0</chkPtAv>
<cornerPts>
<pos Sync="TRUE">967500.000000 740000.000000</pos>
</cornerPts>
<cornerPts>
<pos Sync="TRUE">967500.000000 777500.000000</pos>
</cornerPts>
<cornerPts>
<pos Sync="TRUE">1005000.000000 777500.000000</pos>
</cornerPts>
<cornerPts>
<pos Sync="TRUE">1005000.000000 740000.000000</pos>
</cornerPts>
<centerPt>
<pos Sync="TRUE">986250.000000 758750.000000</pos>
</centerPt>
<axisDimension type="002">
<dimSize Sync="TRUE">150000</dimSize>
<dimResol>
<value Sync="TRUE" uom="ftUS">0.250000</value>
</dimResol>
</axisDimension>
<axisDimension type="001">
<dimSize Sync="TRUE">150000</dimSize>
<dimResol>
<value Sync="TRUE" uom="ftUS">0.250000</value>
</dimResol>
</axisDimension>
<ptInPixel>
<PixOrientCd Sync="TRUE" value="001"/>
</ptInPixel>
</Georect>
</spatRepInfo>
<contInfo>
<ImgDesc>
<contentTyp>
<ContentTypCd Sync="TRUE" value="001"/>
</contentTyp>
<covDim>
<Band>
<dimDescrp Sync="TRUE">Band_1</dimDescrp>
<maxVal Sync="TRUE">1024.164917</maxVal>
<minVal Sync="TRUE">46.180153</minVal>
<bitsPerVal Sync="TRUE">64</bitsPerVal>
<valUnit>
<UOM type="length"/>
</valUnit>
</Band>
</covDim>
</ImgDesc>
</contInfo>
<mdDateSt Sync="TRUE">20250527</mdDateSt>
<spdoinfo>
<rastinfo>
<rasttype Sync="TRUE">Pixel</rasttype>
<rowcount Sync="TRUE">150000</rowcount>
<colcount Sync="TRUE">150000</colcount>
<rastxsz Sync="TRUE">0.250000</rastxsz>
<rastysz Sync="TRUE">0.250000</rastysz>
<rastbpp Sync="TRUE">64</rastbpp>
<vrtcount Sync="TRUE">1</vrtcount>
<rastorig Sync="TRUE">Upper Left</rastorig>
<rastcmap Sync="TRUE">FALSE</rastcmap>
<rastcomp Sync="TRUE">LZ77</rastcomp>
<rastband Sync="TRUE">1</rastband>
<rastdtyp Sync="TRUE">pixel codes</rastdtyp>
<rastifor Sync="TRUE">FGDBR</rastifor>
<rastplyr Sync="TRUE">TRUE</rastplyr>
</rastinfo>
</spdoinfo>
<spref>
<horizsys>
<planar>
<planci>
<plance Sync="TRUE">row and column</plance>
<coordrep>
<absres Sync="TRUE">0.250000</absres>
<ordres Sync="TRUE">0.250000</ordres>
</coordrep>
</planci>
</planar>
</horizsys>
</spref>
</metadata>
