{
 "currentVersion": 11.5,
 "serviceDescription": "Scene3_WEL",
 "serviceItemId": "0d4fe3113dc74648a3dbd01088aac0ea",
 "name": "Scene3_WEL",
 "description": "",
 "extent": {
  "xmin": 967500.0088285198,
  "ymin": 740000.0152655755,
  "xmax": 1005000.0088285198,
  "ymax": 777500.0152655755,
  "spatialReference": {
   "wkid": 102656,
   "latestWkid": 2234
  }
 },
 "initialExtent": {
  "xmin": 967500.0088285198,
  "ymin": 740000.0152655755,
  "xmax": 1005000.0088285198,
  "ymax": 777500.0152655755,
  "spatialReference": {
   "wkid": 102656,
   "latestWkid": 2234
  }
 },
 "fullExtent": {
  "xmin": 967500.0088285198,
  "ymin": 740000.0152655755,
  "xmax": 1005000.0088285198,
  "ymax": 777500.0152655755,
  "spatialReference": {
   "wkid": 102656,
   "latestWkid": 2234
  }
 },
 "sortableFields": "",
 "bandCount": 1,
 "pixelType": "F64",
 "minValues": [
  46.180152893066406
 ],
 "maxValues": [
  1024.1649169921875
 ],
 "meanValues": [
  294.30158470888864
 ],
 "stdvValues": [
  147.25608652149344
 ],
 "serviceProperties": "Center<\/MosaicMethod>First<\/MosaicOperator>true<\/SortAscending><\/LockImageID><\/TileOrderField>0<\/TileOrderBase>0.000000<\/AvgImageSpacingX>0.000000<\/AvgImageSpacingY>0.0<\/ViewPointX>0.0<\/ViewPointY>0.0<\/ViewPointDefShiftX>0.0<\/ViewPointDefShiftY>None<\/CompressionMethod>75<\/CompressionQuality>0.100000<\/CompressionTolerance>Bilinear<\/SamplingMethod><\/ImageServiceProperties><\/ImageServer>",
 "allowedFields": "",
 "hasMultidimensions": false,
 "pixelSizeX": 0.25,
 "pixelSizeY": 0.25,
 "meanPixelSize": 0.07620015240030481,
 "datasetFormat": "FGDBR",
 "uncompressedSize": 180000000000,
 "blockWidth": 128,
 "blockHeight": 128,
 "compressionType": "LZ77",
 "bandNames": [
  "Band_1"
 ],
 "allowCopy": true,
 "allowAnalysis": true,
 "itemAccess": false,
 "inspectionCapabilities": "",
 "minPixelSize": 0,
 "maxPixelSize": 0,
 "copyrightText": "",
 "serviceDataType": "esriImageServiceDataTypeGeneric",
 "serviceSourceType": "esriImageServiceSourceTypeDataset",
 "objectIdField": "",
 "fields": [],
 "capabilities": "Image,Metadata,Mensuration",
 "defaultMosaicMethod": "Center",
 "allowedMosaicMethods": "",
 "sortField": "",
 "sortValue": null,
 "sortAscending": true,
 "mosaicOperator": "First",
 "defaultCompressionQuality": 75,
 "defaultResamplingMethod": "Bilinear",
 "maxImageHeight": 4100,
 "maxImageWidth": 15000,
 "allowRasterFunction": true,
 "rasterFunctionInfos": [
  {
   "name": "None",
   "description": "",
   "help": ""
  }
 ],
 "rasterTypeInfos": [
  {
   "name": "Raster Dataset",
   "description": "Supports all ArcGIS Raster Datasets",
   "help": ""
  }
 ],
 "mensurationCapabilities": "Basic",
 "hasHistograms": true,
 "hasColormap": false,
 "hasRasterAttributeTable": false,
 "minScale": 1.0868050657378166E9,
 "maxScale": 2072.9161562687236,
 "minLOD": 0,
 "maxLOD": 19,
 "exportTilesAllowed": false,
 "supportsStatistics": false,
 "supportsAdvancedQueries": false,
 "editFieldsInfo": null,
 "ownershipBasedAccessControlForRasters": null,
 "allowComputeTiePoints": false,
 "useStandardizedQueries": true,
 "advancedQueryCapabilities": {
  "useStandardizedQueries": true,
  "supportsStatistics": false,
  "supportsOrderBy": false,
  "supportsDistinct": false,
  "supportsPagination": false
 },
 "spatialReference": {
  "wkid": 102656,
  "latestWkid": 2234
 }
}
