{
 "currentVersion": 11.5,
 "cimVersion": "3.5.0",
 "serviceDescription": "",
 "mapName": "Layers",
 "description": "",
 "copyrightText": "",
 "supportsDynamicLayers": false,
 "layers": [
  {
   "id": 1,
   "name": "AerialPhoto2009",
   "parentLayerId": -1,
   "defaultVisibility": true,
   "subLayerIds": null,
   "minScale": 0,
   "maxScale": 0,
   "type": "Raster Layer",
   "supportsDynamicLegends": true
  }
 ],
 "tables": [],
 "spatialReference": {
  "wkid": 102656,
  "latestWkid": 2234,
  "xyTolerance": 0.0032808333333333335,
  "zTolerance": 2.0E-4,
  "mTolerance": 2.0E-4,
  "falseX": -119756300,
  "falseY": -96342500,
  "xyUnits": 3.729494550073574E7,
  "falseZ": -100000,
  "zUnits": 10000,
  "falseM": -100000,
  "mUnits": 10000
 },
 "singleFusedMapCache": true,
 "tileInfo": {
  "rows": 256,
  "cols": 256,
  "dpi": 96,
  "format": "MIXED",
  "compressionQuality": 75,
  "origin": {
   "x": -119756300,
   "y": 145170100
  },
  "spatialReference": {
   "wkid": 102656,
   "latestWkid": 2234,
   "xyTolerance": 0.0020487481158702843,
   "zTolerance": 2,
   "mTolerance": 2,
   "falseX": -119756300,
   "falseY": -96342500,
   "xyUnits": 3.729494550073574E7,
   "falseZ": 0,
   "zUnits": 1,
   "falseM": -100000,
   "mUnits": 10000
  },
  "lods": [
   {
    "level": 0,
    "resolution": 41.666666666666664,
    "scale": 48000
   },
   {
    "level": 1,
    "resolution": 20.833333333333332,
    "scale": 24000
   },
   {
    "level": 2,
    "resolution": 10.416666666666666,
    "scale": 12000
   },
   {
    "level": 3,
    "resolution": 5.208333333333333,
    "scale": 6000
   },
   {
    "level": 4,
    "resolution": 2.083333333333333,
    "scale": 2400
   },
   {
    "level": 5,
    "resolution": 1.0416666666666665,
    "scale": 1200
   },
   {
    "level": 6,
    "resolution": 0.5208333333333333,
    "scale": 600
   },
   {
    "level": 7,
    "resolution": 0.20833333333333331,
    "scale": 240
   },
   {
    "level": 8,
    "resolution": 0.10416666666666666,
    "scale": 120
   },
   {
    "level": 9,
    "resolution": 0.05208333333333333,
    "scale": 60
   },
   {
    "level": 10,
    "resolution": 0.020833333333333332,
    "scale": 24
   }
  ]
 },
 "storageInfo": {
  "storageFormat": "esriMapCacheStorageModeCompactV2",
  "packetSize": 128
 },
 "initialExtent": {
  "xmin": 944624.9201711367,
  "ymin": 724934.8038681542,
  "xmax": 1020375.0919924427,
  "ymax": 785064.9585073296,
  "spatialReference": {
   "wkid": 102656,
   "latestWkid": 2234,
   "xyTolerance": 0.0032808333333333335,
   "zTolerance": 2.0E-4,
   "mTolerance": 2.0E-4,
   "falseX": -119756300,
   "falseY": -96342500,
   "xyUnits": 3.729494550073574E7,
   "falseZ": -100000,
   "zUnits": 10000,
   "falseM": -100000,
   "mUnits": 10000
  }
 },
 "fullExtent": {
  "xmin": 960000.0060817897,
  "ymin": 724999.8811877416,
  "xmax": 1005000.0060817897,
  "ymax": 784999.8811877416,
  "spatialReference": {
   "wkid": 102656,
   "latestWkid": 2234,
   "xyTolerance": 0.0032808333333333335,
   "zTolerance": 2.0E-4,
   "mTolerance": 2.0E-4,
   "falseX": -119756300,
   "falseY": -96342500,
   "xyUnits": 3.729494550073574E7,
   "falseZ": -100000,
   "zUnits": 10000,
   "falseM": -100000,
   "mUnits": 10000
  }
 },
 "datesInUnknownTimezone": false,
 "minScale": 48000,
 "maxScale": 240,
 "minLOD": 0,
 "maxLOD": 6,
 "units": "esriFeet",
 "supportedImageFormatTypes": "PNG32,PNG24,PNG,JPG,DIB,TIFF,EMF,PS,PDF,GIF,SVG,SVGZ,BMP",
 "documentInfo": {
  "Title": "Aerials2009",
  "Author": "",
  "Comments": "",
  "Subject": "",
  "Category": "",
  "Version": "3.5.0",
  "AntialiasingMode": "Fast",
  "TextAntialiasingMode": "Force",
  "Keywords": "Aerials2009_cache"
 },
 "supportsQueryDomains": true,
 "capabilities": "Map",
 "supportedQueryFormats": "JSON, geoJSON, PBF",
 "exportTilesAllowed": false,
 "referenceScale": 0.0,
 "datumTransformations": [
  {
   "geoTransforms": [
    {
     "wkid": 108001,
     "latestWkid": 1241,
     "transformForward": true,
     "name": "NAD_1927_To_NAD_1983_NADCON"
    }
   ]
  },
  {
   "geoTransforms": [
    {
     "wkid": 108001,
     "latestWkid": 1241,
     "transformForward": false,
     "name": "NAD_1927_To_NAD_1983_NADCON"
    }
   ]
  }
 ],
 "supportsDatumTransformation": true,
 "archivingInfo": {
  "supportsHistoricMoment": false
 },
 "supportsClipping": true,
 "supportsSpatialFilter": true,
 "supportsTimeRelation": true,
 "supportsQueryDataElements": true,
 "mapUnits": {
  "uwkid": 9003
 },
 "maxSelectionCount": 2000,
 "maxRecordCount": 2000,
 "maxImageHeight": 4096,
 "maxImageWidth": 4096,
 "supportedExtensions": "",
 "serviceItemId": "af177510387a4b76aca0cd938f9c907e"
}
